BEGIN:VCALENDAR
VERSION:2.0
PRODID:-//Esti Hírlap - ECPv6.15.20//NONSGML v1.0//EN
CALSCALE:GREGORIAN
METHOD:PUBLISH
X-ORIGINAL-URL:https://estihirlap.hu
X-WR-CALDESC:Események Esti Hírlap
REFRESH-INTERVAL;VALUE=DURATION:PT1H
X-Robots-Tag:noindex
X-PUBLISHED-TTL:PT1H
BEGIN:VTIMEZONE
TZID:Europe/Budapest
BEGIN:DAYLIGHT
TZOFFSETFROM:+0100
TZOFFSETTO:+0200
TZNAME:CEST
DTSTART:20250330T010000
END:DAYLIGHT
BEGIN:STANDARD
TZOFFSETFROM:+0200
TZOFFSETTO:+0100
TZNAME:CET
DTSTART:20251026T010000
END:STANDARD
BEGIN:DAYLIGHT
TZOFFSETFROM:+0100
TZOFFSETTO:+0200
TZNAME:CEST
DTSTART:20260329T010000
END:DAYLIGHT
BEGIN:STANDARD
TZOFFSETFROM:+0200
TZOFFSETTO:+0100
TZNAME:CET
DTSTART:20261025T010000
END:STANDARD
BEGIN:DAYLIGHT
TZOFFSETFROM:+0100
TZOFFSETTO:+0200
TZNAME:CEST
DTSTART:20270328T010000
END:DAYLIGHT
BEGIN:STANDARD
TZOFFSETFROM:+0200
TZOFFSETTO:+0100
TZNAME:CET
DTSTART:20271031T010000
END:STANDARD
END:VTIMEZONE
BEGIN:VEVENT
DTSTART;TZID=Europe/Budapest:20260424T100000
DTEND;TZID=Europe/Budapest:20260426T180000
DTSTAMP:20260424T114158
CREATED:20260424T092813Z
LAST-MODIFIED:20260424T093211Z
UID:40286-1777024800-1777226400@estihirlap.hu
SUMMARY:Extrém növények világa kiállítás
DESCRIPTION:Egy igazán különleges kiállítás várja a tavaszkert Dísznövény 2026 Szakkiállítás és Vásár látogatóit a MATE Budai Campus Dísztermében (Budai Arborétum mellett).\nKülönleges kaktuszok\, pozsgások\, adeniumok\, rovaremésztő növények\, orchidea és bromélia különlegességek\, tillandsiák\, bonsai-k\, pálmák… de akár termő pisztácia fa és számos meglepetés!\nAz eseményen a Budai Arborétum\, a Magyar Kaktuszgyűjtők Országos Egyesülete\, a Fővárosi Állat-és Növénykert\, az ELTE Füvészkert\, a Magyar Díszkertészek Szakmaközi Szervezete\, a Magyar Orchidea Társaság\, a Borostyán Kert\, a Marczika Kertészet\, az Inplanted\, a városi dzsungel\, Thermoflora\, a Stone and Garden Deko\, Ragadozókert… és még a még bővülő kiállítók csodás\, extrém növényei láthatók majd.\nJelöljétek be\, kövessétek eseményünk… mutatjuk\, hírt adunk a látnivalókról!\na Kiállítás a tavaszkert Dísznövény 2026 Szakkiállítás és Vásárra váltott belépőjeggyel látogatható a tavaszkert.hu oldalon található más programokkal\, a több\, mint 100 kiállító kínálata mellett. \nEsemény linkje
URL:https://estihirlap.hu/program/extrem-novenyek-vilaga-kiallitas/
LOCATION:Budai Arborétum\, Villányi út 29\,\, Budapest\, 1118\, Hungary
CATEGORIES:Kiállítás
ATTACH;FMTTYPE=image/jpeg:https://estihirlap.hu/wp-content/uploads/2026/04/641326433_893595990100884_2810115642706090239_n-scaled.jpg
END:VEVENT
BEGIN:VEVENT
DTSTART;TZID=Europe/Budapest:20260424T200000
DTEND;TZID=Europe/Budapest:20260424T200000
DTSTAMP:20260424T114158
CREATED:20260423T210109Z
LAST-MODIFIED:20260423T211740Z
UID:40137-1777060800-1777060800@estihirlap.hu
SUMMARY:THE SHOW - Szabó Ilona DONNA divatshow és Caroussel lemezbemutató koncertje
DESCRIPTION:Caroussel lemezbemutató koncert és Szabó Ilona DONNA divatshowAz Esti Hírlap\, a MaxLine Média és a MusicTv ajánlásával különlegesen látványos esti program várja a közönséget 2026. április 24-én Budapesten\, az Analog Music Hallban.Az este során a Caroussel zenekar tart lemezbemutató koncertet\,amelyhez Szabó Ilona divattervező nagyszabású DONNA divatshow-ja társul.A szervezők közlése szerint az est egyik kiemelt látványelemea Dirty Rock Show\, a programot pedig az Atomtraktor fellépése zárja.\nEsemény oldala
URL:https://estihirlap.hu/program/the-show-szabo-ilona-donna-divatshow-es-caroussel-lemezbemutato-koncertje/
LOCATION:Analog Music Hall\, Kondorfa utca 8.\, Budapest\, 1116\, Hungary
CATEGORIES:Divat & Lifestyle,Koncert
ATTACH;FMTTYPE=image/jpeg:https://estihirlap.hu/wp-content/uploads/2026/04/show2-Egyeni.jpg
END:VEVENT
END:VCALENDAR